BEGIN:VCALENDAR
VERSION:2.0
PRODID:itakvim.com
METHOD:PUBLISH
UID:bb2d5899-a92d-494a-50dd-08de9f183112
X-WR-CALNAME:Miami Grand Prix'si Sprint
X-ITAKVIM-LANGUAGE:tr
X-ITAKVIM-REGION:TR
CALSCALE:GREGORIAN
BEGIN:VEVENT
UID:bb2d5899-a92d-494a-50dd-08de9f183112
DTSTAMP:20260420T200718Z
DTSTART:20260502T160000Z
DTEND:20260502T160000Z
TRANSP:TRANSPARENT
STATUS:CONFIRMED
SUMMARY:Miami Grand Prix'si Sprint
END:VEVENT
END:VCALENDAR
