BEGIN:VCALENDAR
VERSION:2.0
PRODID:itakvim.com
METHOD:PUBLISH
UID:bbf65e45-8b69-4be7-5282-08de9f183112
X-WR-CALNAME:13.Uluslararası İstanbul  Av Silah Ve Doğa Sporları Fuarı
X-ITAKVIM-LANGUAGE:tr
X-ITAKVIM-REGION:TR
CALSCALE:GREGORIAN
BEGIN:VEVENT
UID:bbf65e45-8b69-4be7-5282-08de9f183112
DTSTAMP:20260420T200816Z
DTSTART:20260603T060000Z
DTEND:20260606T150000Z
TRANSP:TRANSPARENT
STATUS:CONFIRMED
SUMMARY:13.Uluslararası İstanbul  Av Silah Ve Doğa Sporları Fuarı
DESCRIPTION:1) Efem Uluslar Arası Fuar Ve Organizasyon Hizmetleri Anonim Şirketi 2) Riva Fuar Ve Organizasyon Hizmetleri Anonim Şirketi tarafından düzenlenen av, silah, savunma sanayi, balıkçılık ve doğa sporları konulu fuarda görüşmek üzere: 

Web:www.istanbulprohunt.com
E-Posta: h.irmak@efemfuar.com
LOCATION:İstanbul Fuar Merkezi
END:VEVENT
END:VCALENDAR
