BEGIN:VCALENDAR
VERSION:2.0
PRODID:itakvim.com
METHOD:PUBLISH
UID:bd02af50-3ee6-44ad-50f7-08de9f183112
X-WR-CALNAME:Britanya Grand Prix'si Sıralama turları
X-ITAKVIM-LANGUAGE:tr
X-ITAKVIM-REGION:TR
CALSCALE:GREGORIAN
BEGIN:VEVENT
UID:bd02af50-3ee6-44ad-50f7-08de9f183112
DTSTAMP:20260420T200718Z
DTSTART:20260704T150000Z
DTEND:20260704T150000Z
TRANSP:TRANSPARENT
STATUS:CONFIRMED
SUMMARY:Britanya Grand Prix'si Sıralama turları
END:VEVENT
END:VCALENDAR
