BEGIN:VCALENDAR
VERSION:2.0
PRODID:itakvim.com
METHOD:PUBLISH
UID:bd381276-3423-48ef-4f40-08de9f183112
X-WR-CALNAME:ALES Akademik Personel ve Lisansüstü Eğitimi Giriş Sınavı 2026-ALES/3 Geç Başvuru Başlangıç
X-ITAKVIM-LANGUAGE:tr
X-ITAKVIM-REGION:TR
CALSCALE:GREGORIAN
BEGIN:VEVENT
UID:bd381276-3423-48ef-4f40-08de9f183112
DTSTAMP:20260420T200538Z
DTSTART:20261020T210000Z
DTEND:20261020T210000Z
TRANSP:TRANSPARENT
STATUS:CONFIRMED
SUMMARY:ALES Akademik Personel ve Lisansüstü Eğitimi Giriş Sınavı 2026-ALES/3 Geç Başvuru Başlangıç
END:VEVENT
END:VCALENDAR
