BEGIN:VCALENDAR
VERSION:2.0
PRODID:itakvim.com
METHOD:PUBLISH
UID:be6b4def-c63a-4992-5311-08de9f183112
X-WR-CALNAME:İstanbul Maraton Ve Spor Fuarı
X-ITAKVIM-LANGUAGE:tr
X-ITAKVIM-REGION:TR
CALSCALE:GREGORIAN
BEGIN:VEVENT
UID:be6b4def-c63a-4992-5311-08de9f183112
DTSTAMP:20260420T200816Z
DTSTART:20261029T060000Z
DTEND:20261031T150000Z
TRANSP:TRANSPARENT
STATUS:CONFIRMED
SUMMARY:İstanbul Maraton Ve Spor Fuarı
DESCRIPTION:Thor Expo Fuarcılık Hizmetleri Anonim Şirketi tarafından düzenlenen spor ürünleri ve spor malzemeleri konulu fuarda görüşmek üzere: 

Web:www.thorajans.com
E-Posta: ismail@thorajans.com
LOCATION:Dr. Mimar Kadir Topbaş Gösteri Ve Sanat Merkezi
END:VEVENT
END:VCALENDAR
