BEGIN:VCALENDAR
VERSION:2.0
PRODID:itakvim.com
METHOD:PUBLISH
UID:bf4a64ca-857f-4391-52a8-08de9f183112
X-WR-CALNAME:10. Uluslararası İstanbul Hırdavat Fuarı
X-ITAKVIM-LANGUAGE:tr
X-ITAKVIM-REGION:TR
CALSCALE:GREGORIAN
BEGIN:VEVENT
UID:bf4a64ca-857f-4391-52a8-08de9f183112
DTSTAMP:20260420T200816Z
DTSTART:20261118T060000Z
DTEND:20261121T150000Z
TRANSP:TRANSPARENT
STATUS:CONFIRMED
SUMMARY:10. Uluslararası İstanbul Hırdavat Fuarı
DESCRIPTION:Voli Fuar Hizmetleri Anonim Şirketi tarafından düzenlenen hırdavat, İş sağlığı, İş güvenliği ürünleri ve teknolojileri konulu fuarda görüşmek üzere: 

Web:www.voli.com.tr
E-Posta: info@voli.com.tr
LOCATION:İstanbul Fuar Merkezi
END:VEVENT
END:VCALENDAR
