BEGIN:VCALENDAR
VERSION:2.0
PRODID:itakvim.com
METHOD:PUBLISH
UID:bf68da5a-4e06-4895-4f8f-08de9f183112
X-WR-CALNAME:e-YÖKDİL Elektronik Yükseköğretim Kurumları Yabancı Dil Sınavı (e-YÖKDİL 2026/3 İngilizce-Fen Bilimleri) ****** Başvuru Başlangıç
X-ITAKVIM-LANGUAGE:tr
X-ITAKVIM-REGION:TR
CALSCALE:GREGORIAN
BEGIN:VEVENT
UID:bf68da5a-4e06-4895-4f8f-08de9f183112
DTSTAMP:20260420T200538Z
DTSTART:20260428T210000Z
DTEND:20260428T210000Z
TRANSP:TRANSPARENT
STATUS:CONFIRMED
SUMMARY:e-YÖKDİL Elektronik Yükseköğretim Kurumları Yabancı Dil Sınavı (e-YÖKDİL 2026/3 İngilizce-Fen Bilimleri) ****** Başvuru Başlangıç
END:VEVENT
END:VCALENDAR
