BEGIN:VCALENDAR
VERSION:2.0
PRODID:itakvim.com
METHOD:PUBLISH
UID:c0055be0-341c-4a68-59be-08de9f8ee600
X-WR-CALNAME:Artnouva  3.Sanat Fuarı
X-ITAKVIM-LANGUAGE:tr
X-ITAKVIM-REGION:TR
CALSCALE:GREGORIAN
BEGIN:VEVENT
UID:c0055be0-341c-4a68-59be-08de9f8ee600
DTSTAMP:20260421T101545Z
DTSTART:20261021T060000Z
DTEND:20261025T150000Z
TRANSP:TRANSPARENT
STATUS:CONFIRMED
SUMMARY:Artnouva  3.Sanat Fuarı
DESCRIPTION:Atis Fuarcılık Anonim Şirketi tarafından düzenlenen sanat ve sanatsal ürünler konulu fuarda görüşmek üzere: 

Web:www.artnovafair.com
E-Posta: info@atisfuar.com
LOCATION:Ato Kongre Ve Sergi Sarayı 'Congresıum'
END:VEVENT
END:VCALENDAR
