BEGIN:VCALENDAR
VERSION:2.0
PRODID:itakvim.com
METHOD:PUBLISH
UID:c03de1b2-98b6-4ee4-51c1-08de9f183112
X-WR-CALNAME:3. Dönem Final Sınavları  (Dersin Öğretim üyesi tarafından ilan edilecektir.)
X-ITAKVIM-LANGUAGE:tr
X-ITAKVIM-REGION:TR
CALSCALE:GREGORIAN
BEGIN:VEVENT
UID:c03de1b2-98b6-4ee4-51c1-08de9f183112
DTSTAMP:20260420T200724Z
DTSTART:20260719T210000Z
DTEND:20260723T210000Z
TRANSP:TRANSPARENT
STATUS:CONFIRMED
SUMMARY:3. Dönem Final Sınavları  (Dersin Öğretim üyesi tarafından ilan edilecektir.)
END:VEVENT
END:VCALENDAR
