BEGIN:VCALENDAR
VERSION:2.0
PRODID:itakvim.com
METHOD:PUBLISH
UID:c116bc28-9426-45e3-50db-08de9f183112
X-WR-CALNAME:Miami Grand Prix'si Birinci antrenman
X-ITAKVIM-LANGUAGE:tr
X-ITAKVIM-REGION:TR
CALSCALE:GREGORIAN
BEGIN:VEVENT
UID:c116bc28-9426-45e3-50db-08de9f183112
DTSTAMP:20260420T200718Z
DTSTART:20260501T163000Z
DTEND:20260501T163000Z
TRANSP:TRANSPARENT
STATUS:CONFIRMED
SUMMARY:Miami Grand Prix'si Birinci antrenman
END:VEVENT
END:VCALENDAR
