BEGIN:VCALENDAR
VERSION:2.0
PRODID:itakvim.com
METHOD:PUBLISH
UID:c1af7233-f4c2-4400-d2ea-08de9f271cd7
X-WR-CALNAME:Mart 2026 Dönemi Kurumlar Vergisi Mükelleflerinin Turizm Payı Beyan ve Ödemesi Son Gün
X-ITAKVIM-LANGUAGE:tr
X-ITAKVIM-REGION:TR
CALSCALE:GREGORIAN
BEGIN:VEVENT
UID:c1af7233-f4c2-4400-d2ea-08de9f271cd7
DTSTAMP:20260420T215235Z
DTSTART:20260430T140000Z
DTEND:20260430T140000Z
TRANSP:TRANSPARENT
STATUS:CONFIRMED
SUMMARY:Mart 2026 Dönemi Kurumlar Vergisi Mükelleflerinin Turizm Payı Beyan ve Ödemesi Son Gün
DESCRIPTION:Mart 2026 Dönemine Ait Kurumlar Vergisi Mükellefleri İçin Turizm Payının Beyanı ve Ödemesi
END:VEVENT
END:VCALENDAR
