BEGIN:VCALENDAR
VERSION:2.0
PRODID:itakvim.com
METHOD:PUBLISH
UID:c278b017-458c-4390-519d-08de9f183112
X-WR-CALNAME:İngilizce Hazırlık Sınıfı ve UOLP Hazırlık Sınıfı Yaz Öğretimi Sonu
X-ITAKVIM-LANGUAGE:tr
X-ITAKVIM-REGION:TR
CALSCALE:GREGORIAN
BEGIN:VEVENT
UID:c278b017-458c-4390-519d-08de9f183112
DTSTAMP:20260420T200724Z
DTSTART:20260730T210000Z
DTEND:20260730T210000Z
TRANSP:TRANSPARENT
STATUS:CONFIRMED
SUMMARY:İngilizce Hazırlık Sınıfı ve UOLP Hazırlık Sınıfı Yaz Öğretimi Sonu
END:VEVENT
END:VCALENDAR
