BEGIN:VCALENDAR
VERSION:2.0
PRODID:itakvim.com
METHOD:PUBLISH
UID:c2893dd1-a678-474e-5327-08de9f183112
X-WR-CALNAME:Adana Tarım – Sera&Bahçe Fuarı   19. Tarım, Sera-Bahçe, Hayvancılık, Tavukçuluk Ve Süt Endüstrisi Fuarı
X-ITAKVIM-LANGUAGE:tr
X-ITAKVIM-REGION:TR
CALSCALE:GREGORIAN
BEGIN:VEVENT
UID:c2893dd1-a678-474e-5327-08de9f183112
DTSTAMP:20260420T200816Z
DTSTART:20261104T060000Z
DTEND:20261108T150000Z
TRANSP:TRANSPARENT
STATUS:CONFIRMED
SUMMARY:Adana Tarım – Sera&Bahçe Fuarı   19. Tarım, Sera-Bahçe, Hayvancılık, Tavukçuluk Ve Süt Endüstrisi Fuarı
DESCRIPTION:Tüyap Tüm Fuarcılık Yapım A.Ş tarafından düzenlenen tarım, sera-bahçe, hayvancılık, tavukçuluk ve süt endüstrisi tarımsal mekanizasyon konulu fuarda görüşmek üzere: 

Web:www.tuyapadana@tuyap.com.tr
E-Posta: tuyap@tuyap.com.tr
LOCATION:Adana Uluslararası  Fuar Ve Kongre Merkezi
END:VEVENT
END:VCALENDAR
