BEGIN:VCALENDAR
VERSION:2.0
PRODID:itakvim.com
METHOD:PUBLISH
UID:c2bb8df0-141b-4850-4f5a-08de9f183112
X-WR-CALNAME:STS Eczacılık Eczacılık Alanında Yurt Dışı Yükseköğretim Diploma Denkliği İçin Seviye Tespit Sınavı 2026-STS Eczacılık Başvuru Bitiş
X-ITAKVIM-LANGUAGE:tr
X-ITAKVIM-REGION:TR
CALSCALE:GREGORIAN
BEGIN:VEVENT
UID:c2bb8df0-141b-4850-4f5a-08de9f183112
DTSTAMP:20260420T200538Z
DTSTART:20260930T210000Z
DTEND:20260930T210000Z
TRANSP:TRANSPARENT
STATUS:CONFIRMED
SUMMARY:STS Eczacılık Eczacılık Alanında Yurt Dışı Yükseköğretim Diploma Denkliği İçin Seviye Tespit Sınavı 2026-STS Eczacılık Başvuru Bitiş
END:VEVENT
END:VCALENDAR
