BEGIN:VCALENDAR
VERSION:2.0
PRODID:itakvim.com
METHOD:PUBLISH
UID:c33107be-dab0-4f5b-5242-08de9f183112
X-WR-CALNAME:10. Bıotecnıca Uluslararası Biyoteknoloji, Yaşam Bilimleri Ve Endüstrileri Fuarı
X-ITAKVIM-LANGUAGE:tr
X-ITAKVIM-REGION:TR
CALSCALE:GREGORIAN
BEGIN:VEVENT
UID:c33107be-dab0-4f5b-5242-08de9f183112
DTSTAMP:20260420T200816Z
DTSTART:20261014T060000Z
DTEND:20261016T150000Z
TRANSP:TRANSPARENT
STATUS:CONFIRMED
SUMMARY:10. Bıotecnıca Uluslararası Biyoteknoloji, Yaşam Bilimleri Ve Endüstrileri Fuarı
DESCRIPTION:Akdeniz Reklamcılık Tanıtım Ve Fuar Hizmetleri Limited Şirketi tarafından düzenlenen biyoproses, biyoanalitik, biyoenformasyon, endüstriyel biyoteknoloji, ar-ge konulu fuarda görüşmek üzere: 

Web:www.bioexpo.com.tr
E-Posta: info@yapex.com
LOCATION:Lütfi Kırdar Uluslararası Kongre Ve Sergi Sarayı
END:VEVENT
END:VCALENDAR
