BEGIN:VCALENDAR
VERSION:2.0
PRODID:itakvim.com
METHOD:PUBLISH
UID:c335e1aa-59f8-4850-52a5-08de9f183112
X-WR-CALNAME:Foam Eurasia 2026
X-ITAKVIM-LANGUAGE:tr
X-ITAKVIM-REGION:TR
CALSCALE:GREGORIAN
BEGIN:VEVENT
UID:c335e1aa-59f8-4850-52a5-08de9f183112
DTSTAMP:20260420T200816Z
DTSTART:20261111T060000Z
DTEND:20261113T150000Z
TRANSP:TRANSPARENT
STATUS:CONFIRMED
SUMMARY:Foam Eurasia 2026
DESCRIPTION:Cng Fuarcılık Ve Tanıtım Hizmetleri Anonim Şirketi tarafından düzenlenen özel ve teknik endüstriyel köpükler  ve proses teknolojileri konulu fuarda görüşmek üzere: 

Web:foameurasia.events
E-Posta: cengizyaman@cngexpo.com
LOCATION:İstanbul Fuar Merkezi
END:VEVENT
END:VCALENDAR
