BEGIN:VCALENDAR
VERSION:2.0
PRODID:itakvim.com
METHOD:PUBLISH
UID:c3f99508-c887-45bd-517b-08de9f183112
X-WR-CALNAME:Bahar Yarıyılı Sonu Mazeret Sınavları (Öğretim Üyelerinin belirlediği Saat ve Yerde)
X-ITAKVIM-LANGUAGE:tr
X-ITAKVIM-REGION:TR
CALSCALE:GREGORIAN
BEGIN:VEVENT
UID:c3f99508-c887-45bd-517b-08de9f183112
DTSTAMP:20260420T200724Z
DTSTART:20260615T210000Z
DTEND:20260617T210000Z
TRANSP:TRANSPARENT
STATUS:CONFIRMED
SUMMARY:Bahar Yarıyılı Sonu Mazeret Sınavları (Öğretim Üyelerinin belirlediği Saat ve Yerde)
END:VEVENT
END:VCALENDAR
