BEGIN:VCALENDAR
VERSION:2.0
PRODID:itakvim.com
METHOD:PUBLISH
UID:c6035932-3d1c-4fb6-5316-08de9f183112
X-WR-CALNAME:İmeef-İstanbul Müzik Endüstrileri Ve Ekipmanları Fuarı
X-ITAKVIM-LANGUAGE:tr
X-ITAKVIM-REGION:TR
CALSCALE:GREGORIAN
BEGIN:VEVENT
UID:c6035932-3d1c-4fb6-5316-08de9f183112
DTSTAMP:20260420T200816Z
DTSTART:20261203T060000Z
DTEND:20261206T150000Z
TRANSP:TRANSPARENT
STATUS:CONFIRMED
SUMMARY:İmeef-İstanbul Müzik Endüstrileri Ve Ekipmanları Fuarı
DESCRIPTION:Expotime Fuarcılık Hizmetleri Ve Organizasyon Ticaret Limited Şirketi tarafından düzenlenen müzik endüstrileri, ekipmanları ve ses & işık sistemleri konulu fuarda görüşmek üzere: 

Web:www.imeef.com
E-Posta: serkan@expotime.com.tr
LOCATION:Dr. Mimar Kadir Topbaş Gösteri Ve Sanat Merkezi
END:VEVENT
END:VCALENDAR
