BEGIN:VCALENDAR
VERSION:2.0
PRODID:itakvim.com
METHOD:PUBLISH
UID:c6ca72a8-b92e-4c5a-4ede-08de9f183112
X-WR-CALNAME:YDS Yabancı Dil Bilgisi Seviye Tespit Sınavı 2026-YDS/2 Sonuç
X-ITAKVIM-LANGUAGE:tr
X-ITAKVIM-REGION:TR
CALSCALE:GREGORIAN
BEGIN:VEVENT
UID:c6ca72a8-b92e-4c5a-4ede-08de9f183112
DTSTAMP:20260420T200538Z
DTSTART:20261209T210000Z
DTEND:20261209T210000Z
TRANSP:TRANSPARENT
STATUS:CONFIRMED
SUMMARY:YDS Yabancı Dil Bilgisi Seviye Tespit Sınavı 2026-YDS/2 Sonuç
END:VEVENT
END:VCALENDAR
