BEGIN:VCALENDAR
VERSION:2.0
PRODID:itakvim.com
METHOD:PUBLISH
UID:c77db110-886d-4dcb-4eb5-08de9f183112
X-WR-CALNAME:HMGS Hukuk Mesleklerine Giriş Sınavı 2026-HMGS/1 Sınav
X-ITAKVIM-LANGUAGE:tr
X-ITAKVIM-REGION:TR
CALSCALE:GREGORIAN
BEGIN:VEVENT
UID:c77db110-886d-4dcb-4eb5-08de9f183112
DTSTAMP:20260420T200538Z
DTSTART:20260425T210000Z
DTEND:20260425T210000Z
TRANSP:TRANSPARENT
STATUS:CONFIRMED
SUMMARY:HMGS Hukuk Mesleklerine Giriş Sınavı 2026-HMGS/1 Sınav
END:VEVENT
END:VCALENDAR
