BEGIN:VCALENDAR
VERSION:2.0
PRODID:itakvim.com
METHOD:PUBLISH
UID:c78d119f-ce5a-4abd-532e-08de9f183112
X-WR-CALNAME:Uşak 11. Ege Tarım Ve Hayvancılık, Süt Teknolojileri, Çiftlik Ekipmanları, Tarım Makineleri, Sera Teknolojileri Fuarı
X-ITAKVIM-LANGUAGE:tr
X-ITAKVIM-REGION:TR
CALSCALE:GREGORIAN
BEGIN:VEVENT
UID:c78d119f-ce5a-4abd-532e-08de9f183112
DTSTAMP:20260420T200816Z
DTSTART:20260917T060000Z
DTEND:20260920T150000Z
TRANSP:TRANSPARENT
STATUS:CONFIRMED
SUMMARY:Uşak 11. Ege Tarım Ve Hayvancılık, Süt Teknolojileri, Çiftlik Ekipmanları, Tarım Makineleri, Sera Teknolojileri Fuarı
DESCRIPTION:Gl Platform Fuar Hizmetleri Limited Şirketi tarafından düzenlenen tarım, hayvancılık, makine teknolojileri konulu fuarda görüşmek üzere: 

Web:www.glplatformfuar.com
E-Posta: info@glplatformfuar.com
LOCATION:Kemal Öz Çok Amaçlı Fuar Alanı
END:VEVENT
END:VCALENDAR
