BEGIN:VCALENDAR
VERSION:2.0
PRODID:itakvim.com
METHOD:PUBLISH
UID:c7c30025-b245-4501-529d-08de9f183112
X-WR-CALNAME:Petzoo Eurasia 12. Uluslararası Evcil Hayvan Ürün Malzeme Ve Aksesuar Tedarikçileri Fuarı
X-ITAKVIM-LANGUAGE:tr
X-ITAKVIM-REGION:TR
CALSCALE:GREGORIAN
BEGIN:VEVENT
UID:c7c30025-b245-4501-529d-08de9f183112
DTSTAMP:20260420T200816Z
DTSTART:20261007T060000Z
DTEND:20261010T150000Z
TRANSP:TRANSPARENT
STATUS:CONFIRMED
SUMMARY:Petzoo Eurasia 12. Uluslararası Evcil Hayvan Ürün Malzeme Ve Aksesuar Tedarikçileri Fuarı
DESCRIPTION:Ulusal Fuarcılık Organizasyon Ticaret Limited Şirketi tarafından düzenlenen evcil hayvan ürün malzeme ve aksesuarları konulu fuarda görüşmek üzere: 

Web:www.ulusalfair.com
E-Posta: selcuk@ulusalfair.com
LOCATION:İstanbul Fuar Merkezi
END:VEVENT
END:VCALENDAR
