BEGIN:VCALENDAR
VERSION:2.0
PRODID:itakvim.com
METHOD:PUBLISH
UID:c8fc9399-6ef8-4645-50fe-08de9f183112
X-WR-CALNAME:Macaristan Grand Prix'si Birinci antrenman
X-ITAKVIM-LANGUAGE:tr
X-ITAKVIM-REGION:TR
CALSCALE:GREGORIAN
BEGIN:VEVENT
UID:c8fc9399-6ef8-4645-50fe-08de9f183112
DTSTAMP:20260420T200718Z
DTSTART:20260724T113000Z
DTEND:20260724T113000Z
TRANSP:TRANSPARENT
STATUS:CONFIRMED
SUMMARY:Macaristan Grand Prix'si Birinci antrenman
END:VEVENT
END:VCALENDAR
