BEGIN:VCALENDAR
VERSION:2.0
PRODID:itakvim.com
METHOD:PUBLISH
UID:c9b930bf-5eff-4464-4f42-08de9f183112
X-WR-CALNAME:ALES Akademik Personel ve Lisansüstü Eğitimi Giriş Sınavı 2026-ALES/3 Sonuç
X-ITAKVIM-LANGUAGE:tr
X-ITAKVIM-REGION:TR
CALSCALE:GREGORIAN
BEGIN:VEVENT
UID:c9b930bf-5eff-4464-4f42-08de9f183112
DTSTAMP:20260420T200538Z
DTSTART:20261216T210000Z
DTEND:20261216T210000Z
TRANSP:TRANSPARENT
STATUS:CONFIRMED
SUMMARY:ALES Akademik Personel ve Lisansüstü Eğitimi Giriş Sınavı 2026-ALES/3 Sonuç
END:VEVENT
END:VCALENDAR
