BEGIN:VCALENDAR
VERSION:2.0
PRODID:itakvim.com
METHOD:PUBLISH
UID:c9d27675-eea3-4832-4f38-08de9f183112
X-WR-CALNAME:ALES Akademik Personel ve Lisansüstü Eğitimi Giriş Sınavı 2026-ALES/2 Başvuru Başlangıç
X-ITAKVIM-LANGUAGE:tr
X-ITAKVIM-REGION:TR
CALSCALE:GREGORIAN
BEGIN:VEVENT
UID:c9d27675-eea3-4832-4f38-08de9f183112
DTSTAMP:20260420T200538Z
DTSTART:20260609T210000Z
DTEND:20260609T210000Z
TRANSP:TRANSPARENT
STATUS:CONFIRMED
SUMMARY:ALES Akademik Personel ve Lisansüstü Eğitimi Giriş Sınavı 2026-ALES/2 Başvuru Başlangıç
END:VEVENT
END:VCALENDAR
