BEGIN:VCALENDAR
VERSION:2.0
PRODID:itakvim.com
METHOD:PUBLISH
UID:ca1ceb04-329a-4de2-d298-08de9f271cd7
X-WR-CALNAME:Mart 2026 Dönemi Aracı Hizmet Sağlayıcıları, İnternet Reklamcılığı Hizmet Aracıları ile Kargo ve Lojistik İşletmelerinin Bildirimi Son Gün
X-ITAKVIM-LANGUAGE:tr
X-ITAKVIM-REGION:TR
CALSCALE:GREGORIAN
BEGIN:VEVENT
UID:ca1ceb04-329a-4de2-d298-08de9f271cd7
DTSTAMP:20260420T215235Z
DTSTART:20260430T140000Z
DTEND:20260430T140000Z
TRANSP:TRANSPARENT
STATUS:CONFIRMED
SUMMARY:Mart 2026 Dönemi Aracı Hizmet Sağlayıcıları, İnternet Reklamcılığı Hizmet Aracıları ile Kargo ve Lojistik İşletmelerinin Bildirimi Son Gün
DESCRIPTION:Mart 2026 Dönemine Ait 464 Sıra No.lu VUKGT Kapsamında Bildirimde Bulunma Zorunluluğu Getirilen Aracı Hizmet Sağlayıcıları, İnternet Reklamcılığı Hizmet Aracıları ile Kargo ve Lojistik İşletmeleri Tarafından Bildirim Verilmesi
END:VEVENT
END:VCALENDAR
