BEGIN:VCALENDAR
VERSION:2.0
PRODID:itakvim.com
METHOD:PUBLISH
UID:cdca51c8-f605-4a04-4eb4-08de9f183112
X-WR-CALNAME:İYÖS İdari Yargı Ön Sınavı 2026-İYÖS Sonuç
X-ITAKVIM-LANGUAGE:tr
X-ITAKVIM-REGION:TR
CALSCALE:GREGORIAN
BEGIN:VEVENT
UID:cdca51c8-f605-4a04-4eb4-08de9f183112
DTSTAMP:20260420T200538Z
DTSTART:20261021T210000Z
DTEND:20261021T210000Z
TRANSP:TRANSPARENT
STATUS:CONFIRMED
SUMMARY:İYÖS İdari Yargı Ön Sınavı 2026-İYÖS Sonuç
END:VEVENT
END:VCALENDAR
