BEGIN:VCALENDAR
VERSION:2.0
PRODID:itakvim.com
METHOD:PUBLISH
UID:cdcc0c63-f9e4-4f3c-51be-08de9f183112
X-WR-CALNAME:Öğrenim ücretini Yatırmayan Öğrencilerin Derslerinin Düşürülmesi
X-ITAKVIM-LANGUAGE:tr
X-ITAKVIM-REGION:TR
CALSCALE:GREGORIAN
BEGIN:VEVENT
UID:cdcc0c63-f9e4-4f3c-51be-08de9f183112
DTSTAMP:20260420T200724Z
DTSTART:20260423T210000Z
DTEND:20260423T210000Z
TRANSP:TRANSPARENT
STATUS:CONFIRMED
SUMMARY:Öğrenim ücretini Yatırmayan Öğrencilerin Derslerinin Düşürülmesi
END:VEVENT
END:VCALENDAR
