BEGIN:VCALENDAR
VERSION:2.0
PRODID:itakvim.com
METHOD:PUBLISH
UID:cea132ec-5c3a-4d9a-5231-08de9f183112
X-WR-CALNAME:Doktora Öğrencilerinin Ocak-Haziran Dönemi Tez Öneri/Tez İzleme Raporlarının Lisansüstü Eğitim Enstitüsüne Teslimi
X-ITAKVIM-LANGUAGE:tr
X-ITAKVIM-REGION:TR
CALSCALE:GREGORIAN
BEGIN:VEVENT
UID:cea132ec-5c3a-4d9a-5231-08de9f183112
DTSTAMP:20260420T200724Z
DTSTART:20260301T210000Z
DTEND:20260629T210000Z
TRANSP:TRANSPARENT
STATUS:CONFIRMED
SUMMARY:Doktora Öğrencilerinin Ocak-Haziran Dönemi Tez Öneri/Tez İzleme Raporlarının Lisansüstü Eğitim Enstitüsüne Teslimi
END:VEVENT
END:VCALENDAR
