BEGIN:VCALENDAR
VERSION:2.0
PRODID:itakvim.com
METHOD:PUBLISH
UID:cef6480d-a711-4e80-5307-08de9f183112
X-WR-CALNAME:World Sports İstanbul - Uluslararası Fitness Ekipmanları, Spor Teknolojileri, Gıda, Giyim Ve Wellness Fuarı
X-ITAKVIM-LANGUAGE:tr
X-ITAKVIM-REGION:TR
CALSCALE:GREGORIAN
BEGIN:VEVENT
UID:cef6480d-a711-4e80-5307-08de9f183112
DTSTAMP:20260420T200816Z
DTSTART:20260508T060000Z
DTEND:20260510T150000Z
TRANSP:TRANSPARENT
STATUS:CONFIRMED
SUMMARY:World Sports İstanbul - Uluslararası Fitness Ekipmanları, Spor Teknolojileri, Gıda, Giyim Ve Wellness Fuarı
DESCRIPTION:Tam Fuarcılık Ve Organizasyon Anonim Şirketi tarafından düzenlenen spor ekipmanları, teknolojileri, gıda, giyim ve wellness konulu fuarda görüşmek üzere: 

Web:www.worldsportsistanbul.com
E-Posta: ahmet@tamfuar.com
LOCATION:Dr. Mimar Kadir Topbaş Gösteri Ve Sanat Merkezi
END:VEVENT
END:VCALENDAR
