BEGIN:VCALENDAR
VERSION:2.0
PRODID:itakvim.com
METHOD:PUBLISH
UID:cf5f7ab7-97f6-4a1a-52ac-08de9f183112
X-WR-CALNAME:Sefpex-Seafood And Processing Expo
X-ITAKVIM-LANGUAGE:tr
X-ITAKVIM-REGION:TR
CALSCALE:GREGORIAN
BEGIN:VEVENT
UID:cf5f7ab7-97f6-4a1a-52ac-08de9f183112
DTSTAMP:20260420T200816Z
DTSTART:20261125T060000Z
DTEND:20261128T150000Z
TRANSP:TRANSPARENT
STATUS:CONFIRMED
SUMMARY:Sefpex-Seafood And Processing Expo
DESCRIPTION:Discover Events Fuar Ve Organizasyon Limited Şirketi tarafından düzenlenen balıkçılık,su ürünleri,lojistik,depolama,ambalaj balıkçılık,İşleme,su ürünleri yetiştiriciliği,su ürünleri yetiştiriciliği,balık tutma&İşleme,ürün dağıtımı,derin İşlenmiş ürünler,taşımacılık İstifleme konulu fuarda görüşmek üzere: 

Web:discoverevents.com.tr
E-Posta: info@discoverevents.com.tr
LOCATION:İstanbul Fuar Merkezi
END:VEVENT
END:VCALENDAR
