BEGIN:VCALENDAR
VERSION:2.0
PRODID:itakvim.com
METHOD:PUBLISH
UID:cf6f7105-5fe5-4f78-d6ec-08de9fecec0c
X-WR-CALNAME:YÖKDİL Yükseköğretim Kurumları Yabancı Dil Sınavı 2026-YÖKDİL/2 Sonuç
X-ITAKVIM-LANGUAGE:tr
X-ITAKVIM-REGION:TR
CALSCALE:GREGORIAN
BEGIN:VEVENT
UID:cf6f7105-5fe5-4f78-d6ec-08de9fecec0c
DTSTAMP:20260421T212824Z
DTSTART:20260820T210000Z
DTEND:20260820T210000Z
TRANSP:TRANSPARENT
STATUS:CONFIRMED
SUMMARY:YÖKDİL Yükseköğretim Kurumları Yabancı Dil Sınavı 2026-YÖKDİL/2 Sonuç
END:VEVENT
END:VCALENDAR
