BEGIN:VCALENDAR
VERSION:2.0
PRODID:itakvim.com
METHOD:PUBLISH
UID:cf77b3d1-ea8a-4c32-4f01-08de9f183112
X-WR-CALNAME:KPSS Kamu Personel Seçme Sınavı 2026-KPSS Ortaöğretim Geç Başvuru Bitiş
X-ITAKVIM-LANGUAGE:tr
X-ITAKVIM-REGION:TR
CALSCALE:GREGORIAN
BEGIN:VEVENT
UID:cf77b3d1-ea8a-4c32-4f01-08de9f183112
DTSTAMP:20260420T200538Z
DTSTART:20260916T205900Z
DTEND:20260916T205900Z
TRANSP:TRANSPARENT
STATUS:CONFIRMED
SUMMARY:KPSS Kamu Personel Seçme Sınavı 2026-KPSS Ortaöğretim Geç Başvuru Bitiş
END:VEVENT
END:VCALENDAR
