BEGIN:VCALENDAR
VERSION:2.0
PRODID:itakvim.com
METHOD:PUBLISH
UID:cf93bdca-751a-4ef3-cc67-08de9d98d356
X-WR-CALNAME:Öylece Durur Zaman
X-ITAKVIM-LANGUAGE:tr
X-ITAKVIM-REGION:TR
CALSCALE:GREGORIAN
BEGIN:VEVENT
UID:cf93bdca-751a-4ef3-cc67-08de9d98d356
DTSTAMP:20260418T222122Z
DTSTART:20260502T170000Z
DTEND:20260502T170000Z
TRANSP:TRANSPARENT
STATUS:CONFIRMED
SUMMARY:Öylece Durur Zaman
LOCATION:Müze Gazhane Prof. Dr. Sevda Şener Sahnesi
END:VEVENT
END:VCALENDAR
