BEGIN:VCALENDAR
VERSION:2.0
PRODID:itakvim.com
METHOD:PUBLISH
UID:d041afb5-2518-483f-5a49-08de9f8ee600
X-WR-CALNAME:Hunt Expo
X-ITAKVIM-LANGUAGE:tr
X-ITAKVIM-REGION:TR
CALSCALE:GREGORIAN
BEGIN:VEVENT
UID:d041afb5-2518-483f-5a49-08de9f8ee600
DTSTAMP:20260421T101546Z
DTSTART:20260506T060000Z
DTEND:20260510T150000Z
TRANSP:TRANSPARENT
STATUS:CONFIRMED
SUMMARY:Hunt Expo
DESCRIPTION:Bizim Prodüksiyon Limited Şirketi tarafından düzenlenen kamp outdoor sporları avcılık ve karavan fuarı konulu fuarda görüşmek üzere: 

Web:bizimfuarcilik.com
E-Posta: bizimfuarcilik@gmail.com
LOCATION:Denizli Egs Kongre Ve Kültür Merkezi Fuar Alanı
END:VEVENT
END:VCALENDAR
