BEGIN:VCALENDAR
VERSION:2.0
PRODID:itakvim.com
METHOD:PUBLISH
UID:d1bb552c-8479-421c-527d-08de9f183112
X-WR-CALNAME:Eurobıke Istanbul
X-ITAKVIM-LANGUAGE:tr
X-ITAKVIM-REGION:TR
CALSCALE:GREGORIAN
BEGIN:VEVENT
UID:d1bb552c-8479-421c-527d-08de9f183112
DTSTAMP:20260420T200816Z
DTSTART:20260422T060000Z
DTEND:20260425T150000Z
TRANSP:TRANSPARENT
STATUS:CONFIRMED
SUMMARY:Eurobıke Istanbul
DESCRIPTION:Messe Frankfurt İstanbul Uluslararası Fuarcılık Limited Şirketi tarafından düzenlenen bisikletler, aksesuarlar, tunıng, servisler, bayiler konulu fuarda görüşmek üzere: 

Web:www.messefrankfurt.com.tr
E-Posta: info@turkey.messefrankfurt.com
LOCATION:İstanbul Fuar Merkezi
END:VEVENT
END:VCALENDAR
