BEGIN:VCALENDAR
VERSION:2.0
PRODID:itakvim.com
METHOD:PUBLISH
UID:d2cafe28-4e66-4768-5a4e-08de9f8ee600
X-WR-CALNAME:Çorum Güzellik, Kozmetik, Kuaför, Estetik, Saç Ekim Ve Çorum Evlilik,  Düğün Hazırlıkları Fuarı
X-ITAKVIM-LANGUAGE:tr
X-ITAKVIM-REGION:TR
CALSCALE:GREGORIAN
BEGIN:VEVENT
UID:d2cafe28-4e66-4768-5a4e-08de9f8ee600
DTSTAMP:20260421T101546Z
DTSTART:20260423T060000Z
DTEND:20260426T150000Z
TRANSP:TRANSPARENT
STATUS:CONFIRMED
SUMMARY:Çorum Güzellik, Kozmetik, Kuaför, Estetik, Saç Ekim Ve Çorum Evlilik,  Düğün Hazırlıkları Fuarı
DESCRIPTION:Proaktif Fuarcılık Limited Şirketi tarafından düzenlenen güzellik, kozmetik, saç ekimi, evlilik, mobilya ve düğün hazırlıkları fuarı konulu fuarda görüşmek üzere: 

Web:www.proaktiffuarcilik.com
E-Posta: info@proaktiffuarcilik.com
LOCATION:Çorum Tso Fuar Merkezi
END:VEVENT
END:VCALENDAR
