BEGIN:VCALENDAR
VERSION:2.0
PRODID:itakvim.com
METHOD:PUBLISH
UID:d2e20589-637e-4a23-4f81-08de9f183112
X-WR-CALNAME:BKUBTS Tarım ve Orman Bakanlığı Bitki Koruma Ürünleri Bayi ve Toptancılık Yazılı Sınavı 2026-BKUBTS Başvuru Başlangıç
X-ITAKVIM-LANGUAGE:tr
X-ITAKVIM-REGION:TR
CALSCALE:GREGORIAN
BEGIN:VEVENT
UID:d2e20589-637e-4a23-4f81-08de9f183112
DTSTAMP:20260420T200538Z
DTSTART:20260901T210000Z
DTEND:20260901T210000Z
TRANSP:TRANSPARENT
STATUS:CONFIRMED
SUMMARY:BKUBTS Tarım ve Orman Bakanlığı Bitki Koruma Ürünleri Bayi ve Toptancılık Yazılı Sınavı 2026-BKUBTS Başvuru Başlangıç
END:VEVENT
END:VCALENDAR
