BEGIN:VCALENDAR
VERSION:2.0
PRODID:itakvim.com
METHOD:PUBLISH
UID:d381e614-0221-411a-532a-08de9f183112
X-WR-CALNAME:Ieft Yurt Dışı Eğitim Fuar Ve Seminerleri
X-ITAKVIM-LANGUAGE:tr
X-ITAKVIM-REGION:TR
CALSCALE:GREGORIAN
BEGIN:VEVENT
UID:d381e614-0221-411a-532a-08de9f183112
DTSTAMP:20260420T200817Z
DTSTART:20261024T060000Z
DTEND:20261025T150000Z
TRANSP:TRANSPARENT
STATUS:CONFIRMED
SUMMARY:Ieft Yurt Dışı Eğitim Fuar Ve Seminerleri
DESCRIPTION:İstanbul Eğitim Fuarları Ve Tanıtım Limited Şirketi tarafından düzenlenen yurt dışı eğitim fuar ve seminerleri konulu fuarda görüşmek üzere: 

Web:www.ieft.net
E-Posta: info@ieft.net
LOCATION:Hilton İstanbul Bosphorus
END:VEVENT
END:VCALENDAR
