BEGIN:VCALENDAR
VERSION:2.0
PRODID:itakvim.com
METHOD:PUBLISH
UID:d4948ec4-b56d-4c64-4fa4-08de9f183112
X-WR-CALNAME:STS Diş Hekimliği Diş Hekimliği Alanında Yurt Dışı Yükseköğretim Diploma Denkliği İçin Seviye Tespit Sınavı 2026-STS Diş Hekimliği 1.Dönem Sınav
X-ITAKVIM-LANGUAGE:tr
X-ITAKVIM-REGION:TR
CALSCALE:GREGORIAN
BEGIN:VEVENT
UID:d4948ec4-b56d-4c64-4fa4-08de9f183112
DTSTAMP:20260420T200538Z
DTSTART:20260426T071500Z
DTEND:20260426T071500Z
TRANSP:TRANSPARENT
STATUS:CONFIRMED
SUMMARY:STS Diş Hekimliği Diş Hekimliği Alanında Yurt Dışı Yükseköğretim Diploma Denkliği İçin Seviye Tespit Sınavı 2026-STS Diş Hekimliği 1.Dönem Sınav
END:VEVENT
END:VCALENDAR
