BEGIN:VCALENDAR
VERSION:2.0
PRODID:itakvim.com
METHOD:PUBLISH
UID:d5ec36f9-5666-4578-4ebe-08de9f183112
X-WR-CALNAME:HMGS Hukuk Mesleklerine Giriş Sınavı 2026-HMGS/2 Geç Başvuru Başlangıç
X-ITAKVIM-LANGUAGE:tr
X-ITAKVIM-REGION:TR
CALSCALE:GREGORIAN
BEGIN:VEVENT
UID:d5ec36f9-5666-4578-4ebe-08de9f183112
DTSTAMP:20260420T200538Z
DTSTART:20260825T210000Z
DTEND:20260825T210000Z
TRANSP:TRANSPARENT
STATUS:CONFIRMED
SUMMARY:HMGS Hukuk Mesleklerine Giriş Sınavı 2026-HMGS/2 Geç Başvuru Başlangıç
END:VEVENT
END:VCALENDAR
