BEGIN:VCALENDAR
VERSION:2.0
PRODID:itakvim.com
METHOD:PUBLISH
UID:d600c098-bba5-4d1e-5360-08de9f183112
X-WR-CALNAME:İnterfresh Eurasia / Interfood Eurasia Meyve,Sebze,Gıda,Gıda Ürünleri ,Gıda Teknolojileri Ambalaj,Tarım Teknolojileri,Depolama Ve   Lojistik Fuarı
X-ITAKVIM-LANGUAGE:tr
X-ITAKVIM-REGION:TR
CALSCALE:GREGORIAN
BEGIN:VEVENT
UID:d600c098-bba5-4d1e-5360-08de9f183112
DTSTAMP:20260420T200816Z
DTSTART:20260917T060000Z
DTEND:20260919T150000Z
TRANSP:TRANSPARENT
STATUS:CONFIRMED
SUMMARY:İnterfresh Eurasia / Interfood Eurasia Meyve,Sebze,Gıda,Gıda Ürünleri ,Gıda Teknolojileri Ambalaj,Tarım Teknolojileri,Depolama Ve   Lojistik Fuarı
DESCRIPTION:Antexpo Fuarcılık Hizmetleri Anonim Şirketi tarafından düzenlenen sebze,meyve, gıda,ambalaj,lojistik, tarım ekipmanları,depolama , konulu fuarda görüşmek üzere: 

Web:euroasiainterfresh.com
E-Posta: obanbal@antexpo.info
LOCATION:Pine Beach Belek Tarafından B Salonu
END:VEVENT
END:VCALENDAR
