BEGIN:VCALENDAR
VERSION:2.0
PRODID:itakvim.com
METHOD:PUBLISH
UID:d60ae11c-3aa5-419c-4f92-08de9f183112
X-WR-CALNAME:DUS Diş Hekimliğinde Uzmanlık Eğitimi Giriş Sınavı 2026-DUS 1.Dönem Sınav
X-ITAKVIM-LANGUAGE:tr
X-ITAKVIM-REGION:TR
CALSCALE:GREGORIAN
BEGIN:VEVENT
UID:d60ae11c-3aa5-419c-4f92-08de9f183112
DTSTAMP:20260420T200538Z
DTSTART:20260426T071500Z
DTEND:20260426T071500Z
TRANSP:TRANSPARENT
STATUS:CONFIRMED
SUMMARY:DUS Diş Hekimliğinde Uzmanlık Eğitimi Giriş Sınavı 2026-DUS 1.Dönem Sınav
END:VEVENT
END:VCALENDAR
