BEGIN:VCALENDAR
VERSION:2.0
PRODID:itakvim.com
METHOD:PUBLISH
UID:d67b6178-18dc-415e-d5f8-08de9fecec0c
X-WR-CALNAME:e-YDS Elektronik Yabancı Dil Sınavı (e-YDS 2026/5 İspanyolca/İtalyanca) ***** Sınav
X-ITAKVIM-LANGUAGE:tr
X-ITAKVIM-REGION:TR
CALSCALE:GREGORIAN
BEGIN:VEVENT
UID:d67b6178-18dc-415e-d5f8-08de9fecec0c
DTSTAMP:20260421T212824Z
DTSTART:20260503T104500Z
DTEND:20260503T104500Z
TRANSP:TRANSPARENT
STATUS:CONFIRMED
SUMMARY:e-YDS Elektronik Yabancı Dil Sınavı (e-YDS 2026/5 İspanyolca/İtalyanca) ***** Sınav
END:VEVENT
END:VCALENDAR
