BEGIN:VCALENDAR
VERSION:2.0
PRODID:itakvim.com
METHOD:PUBLISH
UID:d7091c5d-3bc3-46c2-5255-08de9f183112
X-WR-CALNAME:Denyapı 2026
X-ITAKVIM-LANGUAGE:tr
X-ITAKVIM-REGION:TR
CALSCALE:GREGORIAN
BEGIN:VEVENT
UID:d7091c5d-3bc3-46c2-5255-08de9f183112
DTSTAMP:20260420T200817Z
DTSTART:20261203T060000Z
DTEND:20261206T150000Z
TRANSP:TRANSPARENT
STATUS:CONFIRMED
SUMMARY:Denyapı 2026
DESCRIPTION:4M Fuar Organizasyon Hizmetleri Limited Şirketi tarafından düzenlenen 2. denizli İnşaat ve teknolojileri fuarı konulu fuarda görüşmek üzere: 

Web:www.4mfuar.com
E-Posta: info@4mfuar.com
LOCATION:Egs Park Fuar Alanı Denizli
END:VEVENT
END:VCALENDAR
