BEGIN:VCALENDAR
VERSION:2.0
PRODID:itakvim.com
METHOD:PUBLISH
UID:d7d1eed6-28e1-4b39-5a99-08de9f8ee600
X-WR-CALNAME:Yaftalı Tabut
X-ITAKVIM-LANGUAGE:tr
X-ITAKVIM-REGION:TR
CALSCALE:GREGORIAN
BEGIN:VEVENT
UID:d7d1eed6-28e1-4b39-5a99-08de9f8ee600
DTSTAMP:20260421T101704Z
DTSTART:20260425T170000Z
DTEND:20260425T170000Z
TRANSP:TRANSPARENT
STATUS:CONFIRMED
SUMMARY:Yaftalı Tabut
LOCATION:Üsküdar Musahipzade Celal Sahnesi
END:VEVENT
END:VCALENDAR
