BEGIN:VCALENDAR
VERSION:2.0
PRODID:itakvim.com
METHOD:PUBLISH
UID:d85860c3-45c3-436e-52aa-08de9f183112
X-WR-CALNAME:Nov Naturel Organıc Vegan Ürünler Ve Hizmetler Fuarı
X-ITAKVIM-LANGUAGE:tr
X-ITAKVIM-REGION:TR
CALSCALE:GREGORIAN
BEGIN:VEVENT
UID:d85860c3-45c3-436e-52aa-08de9f183112
DTSTAMP:20260420T200816Z
DTSTART:20261125T060000Z
DTEND:20261128T150000Z
TRANSP:TRANSPARENT
STATUS:CONFIRMED
SUMMARY:Nov Naturel Organıc Vegan Ürünler Ve Hizmetler Fuarı
DESCRIPTION:Discover Events Fuar Ve Organizasyon Limited Şirketi tarafından düzenlenen gıda ,gıda ambalaj ,kozmetik , tekstil ,tarım ,akılı tarım teknolojileri , sağlık konulu fuarda görüşmek üzere: 

Web:aselexpo.com
E-Posta: info@discoverevents.com.tr
LOCATION:İstanbul Fuar Merkezi
END:VEVENT
END:VCALENDAR
