BEGIN:VCALENDAR
VERSION:2.0
PRODID:itakvim.com
METHOD:PUBLISH
UID:d9d77785-52a3-45fa-5276-08de9f183112
X-WR-CALNAME:21. Trakya Lüleburgaz Tarımtech Tarım, Hayvancılık, Sanayi Ve Gıda Fuarı
X-ITAKVIM-LANGUAGE:tr
X-ITAKVIM-REGION:TR
CALSCALE:GREGORIAN
BEGIN:VEVENT
UID:d9d77785-52a3-45fa-5276-08de9f183112
DTSTAMP:20260420T200816Z
DTSTART:20260923T060000Z
DTEND:20260926T150000Z
TRANSP:TRANSPARENT
STATUS:CONFIRMED
SUMMARY:21. Trakya Lüleburgaz Tarımtech Tarım, Hayvancılık, Sanayi Ve Gıda Fuarı
DESCRIPTION:Renkli Fuarcılık Ltd. Şti. tarafından düzenlenen tarım, hayvancılık,tohum, meyvecilik, sulama ve seracılık, traktör ve ekipmanları, depolama sistemleri, soğutma, havalandırma konulu fuarda görüşmek üzere: 

Web:www.renklyfuar.com
E-Posta: info@renklyfuar.com
LOCATION:Lüleburgaz Belediyesi Kapalı Pazar Semt Ve Fuar Merkezi
END:VEVENT
END:VCALENDAR
