BEGIN:VCALENDAR
VERSION:2.0
PRODID:itakvim.com
METHOD:PUBLISH
UID:daeb5bd2-a1a3-431b-524a-08de9f183112
X-WR-CALNAME:4. Çivril Tarım, Hayvancılık Makinaları Teknolojileri Ve Yem Fuarı
X-ITAKVIM-LANGUAGE:tr
X-ITAKVIM-REGION:TR
CALSCALE:GREGORIAN
BEGIN:VEVENT
UID:daeb5bd2-a1a3-431b-524a-08de9f183112
DTSTAMP:20260420T200817Z
DTSTART:20261017T060000Z
DTEND:20261020T150000Z
TRANSP:TRANSPARENT
STATUS:CONFIRMED
SUMMARY:4. Çivril Tarım, Hayvancılık Makinaları Teknolojileri Ve Yem Fuarı
DESCRIPTION:Başak Fuar Hizmetleri Limited Şirketi tarafından düzenlenen tarım, tarımsal mekanizasyon, seracılık ve hayvancılık teknolojileri, gıda, yem konulu fuarda görüşmek üzere: 

Web:www.basakfuar.com
E-Posta: sedatbozkurt3@gmail.com; info@basakfuar.com
LOCATION:Çivril Çok Amaçlı Fuar Ve Etkinlik Alanı
END:VEVENT
END:VCALENDAR
