BEGIN:VCALENDAR
VERSION:2.0
PRODID:itakvim.com
METHOD:PUBLISH
UID:db7d4b19-2a63-41a6-4ed8-08de9f183112
X-WR-CALNAME:YDS Yabancı Dil Bilgisi Seviye Tespit Sınavı 2026-YDS/1 Sonuç
X-ITAKVIM-LANGUAGE:tr
X-ITAKVIM-REGION:TR
CALSCALE:GREGORIAN
BEGIN:VEVENT
UID:db7d4b19-2a63-41a6-4ed8-08de9f183112
DTSTAMP:20260420T200538Z
DTSTART:20260429T210000Z
DTEND:20260429T210000Z
TRANSP:TRANSPARENT
STATUS:CONFIRMED
SUMMARY:YDS Yabancı Dil Bilgisi Seviye Tespit Sınavı 2026-YDS/1 Sonuç
END:VEVENT
END:VCALENDAR
